BEGIN:VCALENDAR
VERSION:2.0
PRODID:-//Squarespace Inc/Squarespace 6//v6//EN
BEGIN:VEVENT
UID:5e6a0aaa9c483b68eff7b79a@squarespace.com
DTSTAMP:20200312T101636Z
DTSTART:20200327T050000Z
DTEND:20200327T090000Z
SUMMARY:Bears Perth - Wet Fur!
END:VEVENT
END:VCALENDAR
