BEGIN:VCALENDAR
VERSION:2.0
PRODID:-//Squarespace Inc/Squarespace 6//v6//EN
BEGIN:VEVENT
UID:5e6a0b2e28ee32096b7065f6@squarespace.com
DTSTAMP:20200312T101539Z
DTSTART:20200412T040000Z
DTEND:20200412T220000Z
SUMMARY:Easter Sunday! A day of rest.. but not for you
END:VEVENT
END:VCALENDAR
