BEGIN:VCALENDAR
VERSION:2.0
PRODID:-//Squarespace Inc/Squarespace 6//v6//EN
BEGIN:VEVENT
UID:5e1ffb654301a9378dc044a5@squarespace.com
DTSTAMP:20200121T045105Z
DTSTART:20200126T040000Z
DTEND:20200126T220000Z
SUMMARY:Fireworks Extended Trade is here!!
END:VEVENT
END:VCALENDAR
