BEGIN:VCALENDAR
VERSION:2.0
PRODID:-//Squarespace Inc/Squarespace 6//v6//EN
BEGIN:VEVENT
UID:5f2de53ca57169692480773b@squarespace.com
DTSTAMP:20201006T073131Z
DTSTART:20201031T110000Z
DTEND:20201031T180000Z
SUMMARY:Halloween : The Summoning
GEO:0.0;0.0
LOCATION:Perth Steam Works\, 369 William Street\, Northbridge\, WA\, 6003\, 
 Australia
END:VEVENT
END:VCALENDAR
