BEGIN:VCALENDAR
VERSION:2.0
PRODID:-//Squarespace Inc/Squarespace 6//v6//EN
BEGIN:VEVENT
UID:5fa26a92f1f7580f59f37bfc@squarespace.com
DTSTAMP:20201112T091537Z
DTSTART:20201128T120000Z
DTEND:20201128T190000Z
SUMMARY:JOCK! (SOLD OUT)
END:VEVENT
END:VCALENDAR
