BEGIN:VCALENDAR
VERSION:2.0
PRODID:-//Squarespace Inc/Squarespace 6//v6//EN
BEGIN:VEVENT
UID:5f1824d86c9c791b4790e17b@squarespace.com
DTSTAMP:20200722T113722Z
DTSTART:20200806T040000Z
DTEND:20200806T153000Z
SUMMARY:Naked - All Day!
END:VEVENT
END:VCALENDAR
