BEGIN:VCALENDAR
VERSION:2.0
PRODID:-//Squarespace Inc/Squarespace 6//v6//EN
BEGIN:VEVENT
UID:5fc5b98c08845d09245122ec@squarespace.com
DTSTAMP:20201223T043039Z
DTSTART:20210101T040000Z
DTEND:20210101T200000Z
SUMMARY:New Years Day Recovery! 
END:VEVENT
END:VCALENDAR
