BEGIN:VCALENDAR
VERSION:2.0
PRODID:-//Squarespace Inc/Squarespace 6//v6//EN
BEGIN:VEVENT
UID:5fc5b9652dd96f5918b3c28b@squarespace.com
DTSTAMP:20201201T033317Z
DTSTART:20201231T100000Z
DTEND:20210101T040000Z
SUMMARY:New Years Eve - CLOSED
END:VEVENT
END:VCALENDAR
