BEGIN:VCALENDAR
VERSION:2.0
PRODID:-//Squarespace Inc/Squarespace 6//v6//EN
BEGIN:VEVENT
UID:5dabffd025e2af536efb6d32@squarespace.com
DTSTAMP:20191104T135027Z
DTSTART:20191130T040000Z
DTEND:20191130T050000Z
SUMMARY:Pride 2019 - 24 hour trade
END:VEVENT
END:VCALENDAR
