BEGIN:VCALENDAR
VERSION:2.0
PRODID:-//Squarespace Inc/Squarespace 6//v6//EN
BEGIN:VEVENT
UID:5f18247c6c9c791b4790e178@squarespace.com
DTSTAMP:20200722T113535Z
DTSTART:20200801T040000Z
DTEND:20200801T180000Z
SUMMARY:Re-opening Bonanza!!
END:VEVENT
END:VCALENDAR
