BEGIN:VCALENDAR
VERSION:2.0
PRODID:-//Squarespace Inc/Squarespace 6//v6//EN
BEGIN:VEVENT
UID:60334f05ccc1ba1386a0128e@squarespace.com
DTSTAMP:20210222T110618Z
DTSTART:20210403T120000Z
DTEND:20210403T200000Z
SUMMARY:Res (erection) Party!
END:VEVENT
END:VCALENDAR
