BEGIN:VCALENDAR
VERSION:2.0
PRODID:-//Squarespace Inc/Squarespace 6//v6//EN
BEGIN:VEVENT
UID:5fee2e7dbe045b748bd5e6d5@squarespace.com
DTSTAMP:20210104T093629Z
DTSTART:20210123T113000Z
DTEND:20210123T200000Z
SUMMARY:Summer Party!
GEO:40.720756;-74.000761
LOCATION:Perth steam Works
END:VEVENT
END:VCALENDAR
