BEGIN:VCALENDAR
VERSION:2.0
PRODID:-//Squarespace Inc/Squarespace 6//v6//EN
BEGIN:VEVENT
UID:5f54dbfa3fa37f128aca5e61@squarespace.com
DTSTAMP:20200906T125727Z
DTSTART:20200911T110000Z
DTEND:20200911T180000Z
SUMMARY:Underwear Party - SOLD OUT
END:VEVENT
END:VCALENDAR
