BEGIN:VCALENDAR
VERSION:2.0
PRODID:-//Squarespace Inc/Squarespace 6//v6//EN
BEGIN:VEVENT
UID:5fc5b84be0190a17acbc1587@squarespace.com
DTSTAMP:20201201T033226Z
DTSTART:20201211T110000Z
DTEND:20201211T200000Z
SUMMARY:Underwear Party!
END:VEVENT
END:VCALENDAR
