BEGIN:VCALENDAR
VERSION:2.0
PRODID:-//Squarespace Inc/Squarespace 6//v6//EN
BEGIN:VEVENT
UID:5da584c1795ff93b40f4f2fc@squarespace.com
DTSTAMP:20191103T051121Z
DTSTART:20191024T100000Z
DTEND:20191024T155900Z
SUMMARY:Weekly Naked Night
END:VEVENT
END:VCALENDAR
