BEGIN:VCALENDAR
VERSION:2.0
PRODID:-//Squarespace Inc/Squarespace 6//v6//EN
BEGIN:VEVENT
UID:5da584dfeb93e0355810626b@squarespace.com
DTSTAMP:20191026T110956Z
DTSTART:20191031T100000Z
DTEND:20191031T155900Z
SUMMARY:Halloween Naked Night!
END:VEVENT
END:VCALENDAR
