BEGIN:VCALENDAR
VERSION:2.0
PRODID:-//Squarespace Inc/Squarespace 6//v6//EN
BEGIN:VEVENT
UID:5da5842446f22429a59bd0af@squarespace.com
DTSTAMP:20191015T141640Z
DTSTART:20191017T100000Z
DTEND:20191017T155900Z
SUMMARY:Weekly Naked Night!
END:VEVENT
END:VCALENDAR
